BEGIN:VCALENDAR
VERSION:2.0
PRODID:icalendar-ruby
CALSCALE:GREGORIAN
METHOD:PUBLISH
BEGIN:VEVENT
DTSTAMP:20260422T112427Z
UID:5-1239940@dwellingplacenf.com
DTSTART:20240707T150000Z
DTEND:20240707T160000Z
CLASS:PUBLIC
CREATED:20260422T072052
DESCRIPTION:Sunday Worship
LAST-MODIFIED:20260422T072052
LOCATION:
SUMMARY:Sunday Worship
URL;VALUE=URI:https://www.dwellingplacenf.com/events/sunday-worship/2024-07
 -07
END:VEVENT
END:VCALENDAR
