BEGIN:VCALENDAR
VERSION:2.0
PRODID:icalendar-ruby
CALSCALE:GREGORIAN
METHOD:PUBLISH
BEGIN:VEVENT
DTSTAMP:20260422T100731Z
UID:5-1239287@dwellingplacenf.com
DTSTART:20240630T150000Z
DTEND:20240630T160000Z
CLASS:PUBLIC
CREATED:20260421T201955
DESCRIPTION:Sunday Worship
LAST-MODIFIED:20260421T201955
LOCATION:
SUMMARY:Sunday Worship
URL;VALUE=URI:https://www.dwellingplacenf.com/events/sunday-worship/2024-06
 -30
END:VEVENT
END:VCALENDAR
