BEGIN:VCALENDAR
VERSION:2.0
PRODID:icalendar-ruby
CALSCALE:GREGORIAN
METHOD:PUBLISH
BEGIN:VEVENT
DTSTAMP:20260422T034125Z
UID:5-1239282@dwellingplacenf.com
DTSTART:20240526T150000Z
DTEND:20240526T160000Z
CLASS:PUBLIC
CREATED:20260421T201955
DESCRIPTION:Sunday Worship
LAST-MODIFIED:20260421T201955
LOCATION:
SUMMARY:Sunday Worship
URL;VALUE=URI:https://www.dwellingplacenf.com/events/sunday-worship/2024-05
 -26
END:VEVENT
END:VCALENDAR
