BEGIN:VCALENDAR
VERSION:2.0
PRODID:icalendar-ruby
CALSCALE:GREGORIAN
METHOD:PUBLISH
BEGIN:VEVENT
DTSTAMP:20260424T043837Z
UID:1-1246859@dwellingplacenf.com
DTSTART:20261021T220000Z
DTEND:20261021T230000Z
CLASS:PUBLIC
CREATED:20260423T215343
DESCRIPTION:Come worship Jesus with us.\n 
LAST-MODIFIED:20260423T215343
LOCATION:
SUMMARY:House of His Presence
URL;VALUE=URI:https://www.dwellingplacenf.com/events/house-of-his-presence/
 2026-10-21
ATTACH;FILENAME=priscilla-du-preez-234138-unsplash.jpg;FMTTYPE=image/jpeg:h
 ttps://dq5pwpg1q8ru0.cloudfront.net/2021/08/10/11/38/29/4704c9a8-3a63-45a4
 -87ef-eca96ef72fd2/priscilla-du-preez-234138-unsplash.jpg
END:VEVENT
END:VCALENDAR
