BEGIN:VCALENDAR
VERSION:2.0
PRODID:icalendar-ruby
CALSCALE:GREGORIAN
METHOD:PUBLISH
BEGIN:VEVENT
DTSTAMP:20260423T225649Z
UID:1-1245548@dwellingplacenf.com
DTSTART:20260916T220000Z
DTEND:20260916T230000Z
CLASS:PUBLIC
CREATED:20260423T160625
DESCRIPTION:Come worship Jesus with us.\n 
LAST-MODIFIED:20260423T160625
LOCATION:
SUMMARY:House of His Presence
URL;VALUE=URI:https://www.dwellingplacenf.com/events/house-of-his-presence/
 2026-09-16
ATTACH;FILENAME=priscilla-du-preez-234138-unsplash.jpg;FMTTYPE=image/jpeg:h
 ttps://dq5pwpg1q8ru0.cloudfront.net/2021/08/10/11/38/29/4704c9a8-3a63-45a4
 -87ef-eca96ef72fd2/priscilla-du-preez-234138-unsplash.jpg
END:VEVENT
END:VCALENDAR
